Workbook

Sheet Sheet1
D2: Sonaecom | F2: Zon | O2: Simulação
C3: Total de acções | D3: 366246868 | F3: 37489324 | G3: =F3/D4 -> 0.42370488 | H3: =D4/F3 -> 2.3601333 | O3: Acções | Q3: 1000 | R3: =Q3*F9 -> 423.70488
C4: Acções a comprar | D4: 88479803 | R4: =(Q3*G9)*G11 -> 297.57919
C5: Percentagem de capital | D5: =D4/D3 -> 0.24158515
E7: Rácio de troca | F7: 0.48228346 | G7: =F7*D4 -> 42672346
F9: 0.42370488 | G9: =F7-F9 -> 0.05857858
F10: Acções detidas | Q10: Insira o número de acções detidas | R10: 1000
G11: 5.08
Q12: Insira a percentagem de aceitação da oferta | R12: 0.4
D13: =F9 -> 0.42370488 | E13: =F7 -> 0.48228346 | G13: =2.45/G11 -> 0.48228346 | R13: =R12*(F7-F9) -> 0.023431432
D14: 100 | E14: X | R14: =(F7-R13) -> 0.45885203
Q15: Número de acções a receber da Zon | R15: =R14*R10 -> 458.85203
D16: =(E13*D14)/D13 -> 113.82533 | E16: =D16*F3 -> 4.2672345e+09
Q17: Componente em dinheiro | R17: =-(R10*(R14-F7))*G11 -> 119.03167
D18: =D13 -> 0.42370488 | E18: =E13 -> 0.48228346 | H18: =D4 -> 88479803
D19: 1 | E19: =D16 -> 113.82533 | F19: =($E$18*100)/E19 -> 0.42370488 | H19: =(E19/100) -> 1.1382533 | I19: 1 | J19: =F3 -> 37489324 | K19: =J19/H18 -> 0.42370488 | M19: 1 | N19: =H18 -> 88479803 | O19: =J19/$N$19 -> 0.42370488 | Q19: Indique a cotação da Sonaecom | R19: 2.236
D20: 0.99 | E20: =D20*$E$19 -> 112.68707 | F20: =($E$18*100)/E20 -> 0.42798473 | H20: =(E20/100) -> 1.1268707 | I20: 0.99 | J20: =I20*$J$19 -> 37114431 | K20: =J20/$H$18 -> 0.41946783 | M20: 0.99 | N20: =M20*$H$18 -> 87595005 | O20: =J20/$N$19 -> 0.41946783
D21: 0.98 | E21: =D21*$E$19 -> 111.54882 | F21: =($E$18*100)/E21 -> 0.43235192 | H21: =(E21/100) -> 1.1154882 | I21: 0.98 | J21: =I21*$J$19 -> 36739538 | K21: =J21/$H$18 -> 0.41523078 | M21: 0.98 | N21: =M21*$H$18 -> 86710207 | O21: =J21/$N$19 -> 0.41523078 | Q21: Indique a cotação da Zon Optimus | R21: 5.08
D22: 0.97 | E22: =D22*$E$19 -> 110.41057 | F22: =($E$18*100)/E22 -> 0.43680915 | H22: =(E22/100) -> 1.1041057 | I22: 0.97 | J22: =I22*$J$19 -> 36364644 | K22: =J22/$H$18 -> 0.41099373 | M22: 0.97 | N22: =M22*$H$18 -> 85825409 | O22: =J22/$N$19 -> 0.41099373
D23: 0.96 | E23: =D23*$E$19 -> 109.27231 | F23: =($E$18*100)/E23 -> 0.44135925 | H23: =(E23/100) -> 1.0927231 | I23: 0.96 | J23: =I23*$J$19 -> 35989751 | K23: =J23/$H$18 -> 0.40675668 | M23: 0.96 | N23: =M23*$H$18 -> 84940611 | O23: =J23/$N$19 -> 0.40675668 | Q23: Valor total da contrapartida | R23: =(R15*R21)+R17 -> 2450
D24: 0.95 | E24: =D24*$E$19 -> 108.13406 | F24: =($E$18*100)/E24 -> 0.44600514 | H24: =(E24/100) -> 1.0813406 | I24: 0.95 | J24: =I24*$J$19 -> 35614858 | K24: =J24/$H$18 -> 0.40251963 | M24: 0.95 | N24: =M24*$H$18 -> 84055813 | O24: =J24/$N$19 -> 0.40251963
D25: 0.94 | E25: =D25*$E$19 -> 106.99581 | F25: =($E$18*100)/E25 -> 0.45074987 | H25: =(E25/100) -> 1.0699581 | I25: 0.94 | J25: =I25*$J$19 -> 35239965 | K25: =J25/$H$18 -> 0.39828258 | M25: 0.94 | N25: =M25*$H$18 -> 83171015 | O25: =J25/$N$19 -> 0.39828258 | Q25: Valor da carteira com acções da Sonaecom | R25: =R10*R19 -> 2236
D26: 0.93 | E26: =D26*$E$19 -> 105.85755 | F26: =($E$18*100)/E26 -> 0.45559665 | H26: =(E26/100) -> 1.0585755 | I26: 0.93 | J26: =I26*$J$19 -> 34865071 | K26: =J26/$H$18 -> 0.39404554 | M26: 0.93 | N26: =M26*$H$18 -> 82286217 | O26: =J26/$N$19 -> 0.39404554
D27: 0.92 | E27: =D27*$E$19 -> 104.7193 | F27: =($E$18*100)/E27 -> 0.46054878 | H27: =(E27/100) -> 1.047193 | I27: 0.92 | J27: =I27*$J$19 -> 34490178 | K27: =J27/$H$18 -> 0.38980849 | M27: 0.92 | N27: =M27*$H$18 -> 81401419 | O27: =J27/$N$19 -> 0.38980849 | Q27: Prémio | R27: =R23/R25-1 -> 0.095706609
D28: 0.91 | E28: =D28*$E$19 -> 103.58105 | F28: =($E$18*100)/E28 -> 0.46560976 | H28: =(E28/100) -> 1.0358105 | I28: 0.91 | J28: =I28*$J$19 -> 34115285 | K28: =J28/$H$18 -> 0.38557144 | M28: 0.91 | N28: =M28*$H$18 -> 80516621 | O28: =J28/$N$19 -> 0.38557144
D29: 0.9 | E29: =D29*$E$19 -> 102.44279 | F29: =($E$18*100)/E29 -> 0.4707832 | H29: =(E29/100) -> 1.0244279 | I29: 0.9 | J29: =I29*$J$19 -> 33740392 | K29: =J29/$H$18 -> 0.38133439 | M29: 0.9 | N29: =M29*$H$18 -> 79631823 | O29: =J29/$N$19 -> 0.38133439
D30: 0.89 | E30: =D30*$E$19 -> 101.30454 | F30: =($E$18*100)/E30 -> 0.4760729 | H30: =(E30/100) -> 1.0130454 | I30: 0.89 | J30: =I30*$J$19 -> 33365498 | K30: =J30/$H$18 -> 0.37709734 | M30: 0.89 | N30: =M30*$H$18 -> 78747025 | O30: =J30/$N$19 -> 0.37709734
D31: 0.88 | E31: =D31*$E$19 -> 100.16629 | F31: =($E$18*100)/E31 -> 0.48148282 | H31: =(E31/100) -> 1.0016629 | I31: 0.88 | J31: =I31*$J$19 -> 32990605 | K31: =J31/$H$18 -> 0.37286029 | M31: 0.88 | N31: =M31*$H$18 -> 77862227 | O31: =J31/$N$19 -> 0.37286029
D32: 0.87 | E32: =D32*$E$19 -> 99.028033 | F32: =($E$18*100)/E32 -> 0.4870171 | H32: =(E32/100) -> 0.99028033 | I32: 0.87 | J32: =I32*$J$19 -> 32615712 | K32: =J32/$H$18 -> 0.36862324 | M32: 0.87 | N32: =M32*$H$18 -> 76977429 | O32: =J32/$N$19 -> 0.36862324
D33: 0.86 | E33: =D33*$E$19 -> 97.88978 | F33: =($E$18*100)/E33 -> 0.49268009 | H33: =(E33/100) -> 0.9788978 | I33: 0.86 | J33: =I33*$J$19 -> 32240819 | K33: =J33/$H$18 -> 0.36438619 | M33: 0.86 | N33: =M33*$H$18 -> 76092631 | O33: =J33/$N$19 -> 0.36438619
D34: 0.85 | E34: =D34*$E$19 -> 96.751527 | F34: =($E$18*100)/E34 -> 0.49847633 | H34: =(E34/100) -> 0.96751527 | I34: 0.85 | J34: =I34*$J$19 -> 31865925 | K34: =J34/$H$18 -> 0.36014914 | M34: 0.85 | N34: =M34*$H$18 -> 75207833 | O34: =J34/$N$19 -> 0.36014914
D35: 0.84 | E35: =D35*$E$19 -> 95.613274 | F35: =($E$18*100)/E35 -> 0.50441057 | H35: =(E35/100) -> 0.95613274 | I35: 0.84 | J35: =I35*$J$19 -> 31491032 | K35: =J35/$H$18 -> 0.3559121 | M35: 0.84 | N35: =M35*$H$18 -> 74323035 | O35: =J35/$N$19 -> 0.3559121
D36: 0.83 | E36: =D36*$E$19 -> 94.47502 | F36: =($E$18*100)/E36 -> 0.51048781 | H36: =(E36/100) -> 0.9447502 | I36: 0.83 | J36: =I36*$J$19 -> 31116139 | K36: =J36/$H$18 -> 0.35167505 | M36: 0.83 | N36: =M36*$H$18 -> 73438236 | O36: =J36/$N$19 -> 0.35167505
D37: 0.82 | E37: =D37*$E$19 -> 93.336767 | F37: =($E$18*100)/E37 -> 0.51671327 | H37: =(E37/100) -> 0.93336767 | I37: 0.82 | J37: =I37*$J$19 -> 30741246 | K37: =J37/$H$18 -> 0.347438 | M37: 0.82 | N37: =M37*$H$18 -> 72553438 | O37: =J37/$N$19 -> 0.347438
D38: 0.81 | E38: =D38*$E$19 -> 92.198514 | F38: =($E$18*100)/E38 -> 0.52309244 | H38: =(E38/100) -> 0.92198514 | I38: 0.81 | J38: =I38*$J$19 -> 30366352 | K38: =J38/$H$18 -> 0.34320095 | M38: 0.81 | N38: =M38*$H$18 -> 71668640 | O38: =J38/$N$19 -> 0.34320095
D39: 0.8 | E39: =D39*$E$19 -> 91.060261 | F39: =($E$18*100)/E39 -> 0.5296311 | H39: =(E39/100) -> 0.91060261 | I39: 0.8 | J39: =I39*$J$19 -> 29991459 | K39: =J39/$H$18 -> 0.3389639 | M39: 0.8 | N39: =M39*$H$18 -> 70783842 | O39: =J39/$N$19 -> 0.3389639
... D118: 0.01 | E118: =D118*$E$19 -> 1.1382533 | F118: =($E$18*100)/E118 -> 42.370488 | H118: =(E118/100) -> 0.011382533 | I118: 0.01 | J118: =I118*$J$19 -> 374893.24 | K118: =J118/$H$18 -> 0.0042370488 | M118: 0.01 | N118: =M118*$H$18 -> 884798.03 | O118: =J118/$N$19 -> 0.0042370488
D119: -9.9920072e-16 | F119: =($E$18*100)/E119 -> #DIV/0! | H119: =(E119/100) -> 0 | I119: -9.9920072e-16 | M119: -9.9920072e-16

Sheet VAR
D2: =Sheet1!F7 -> 0.48228346 | E2: =Sheet1!F9 -> 0.42370488
L3: 0.99
C4: 1 | D4: =D2-E2 -> 0.05857858 | E4: =D2-D4 -> 0.42370488 | H4: 1 | I4: 0.42370488 | L4: =(D2-E2) -> 0.05857858
C5: 0.99 | D5: =C5*$D$4 -> 0.057992794 | E5: =$D$2-D5 -> 0.42429067 | H5: 0.99 | I5: 0.42429067 | L5: =(L3*L4) -> 0.057992794
C6: 0.98 | D6: =C6*$D$4 -> 0.057407008 | E6: =$D$2-D6 -> 0.42487645 | H6: 0.98 | I6: 0.42487645 | L6: =D2-L5 -> 0.42429067
C7: 0.97 | D7: =C7*$D$4 -> 0.056821223 | E7: =$D$2-D7 -> 0.42546224 | H7: 0.97 | I7: 0.42546224
C8: 0.96 | D8: =C8*$D$4 -> 0.056235437 | E8: =$D$2-D8 -> 0.42604802 | H8: 0.96 | I8: 0.42604802
C9: 0.95 | D9: =C9*$D$4 -> 0.055649651 | E9: =$D$2-D9 -> 0.42663381 | H9: 0.95 | I9: 0.42663381
C10: 0.94 | D10: =C10*$D$4 -> 0.055063865 | E10: =$D$2-D10 -> 0.42721959 | H10: 0.94 | I10: 0.42721959
C11: 0.93 | D11: =C11*$D$4 -> 0.054478079 | E11: =$D$2-D11 -> 0.42780538 | H11: 0.93 | I11: 0.42780538
C12: 0.92 | D12: =C12*$D$4 -> 0.053892294 | E12: =$D$2-D12 -> 0.42839117 | H12: 0.92 | I12: 0.42839117
C13: 0.91 | D13: =C13*$D$4 -> 0.053306508 | E13: =$D$2-D13 -> 0.42897695 | H13: 0.91 | I13: 0.42897695
C14: 0.9 | D14: =C14*$D$4 -> 0.052720722 | E14: =$D$2-D14 -> 0.42956274 | H14: 0.9 | I14: 0.42956274
C15: 0.89 | D15: =C15*$D$4 -> 0.052134936 | E15: =$D$2-D15 -> 0.43014852 | H15: 0.89 | I15: 0.43014852
C16: 0.88 | D16: =C16*$D$4 -> 0.05154915 | E16: =$D$2-D16 -> 0.43073431 | H16: 0.88 | I16: 0.43073431
C17: 0.87 | D17: =C17*$D$4 -> 0.050963365 | E17: =$D$2-D17 -> 0.4313201 | H17: 0.87 | I17: 0.4313201
C18: 0.86 | D18: =C18*$D$4 -> 0.050377579 | E18: =$D$2-D18 -> 0.43190588 | H18: 0.86 | I18: 0.43190588
... C103: 0.01 | D103: =C103*$D$4 -> 0.0005857858 | E103: =$D$2-D103 -> 0.48169767 | H103: 0.01 | I103: 0.48169767
C104: -9.9920072e-16 | E104: =$D$2-D104 -> 0.48228346 | H104: -9.9920072e-16 | I104: 0.48228346

Sheet Calculadora Sonaecom
C3: Saiba quanto vai receber com a OPA à Sonaecom
C6: Indique o número de acções da Sonaecom | D6: 1000
C8: Percentagem de aceitação da oferta | D8: 1
C9: (Por definição está a 100%, mas pode alterar)
C11: =Sheet3!C27 -> Número de acções a receber da Zon Optimus | D11: =Sheet3!D27 -> 423.70488
C13: Valor a receber em dinheiro | D13: =Sheet3!D30 -> 297.57919
G14: * Valor da contrapartida têm em conta a cotação de 5,08 euros para a Zon Optimus, base utilizada na OPA para definir os termos de troca
C15: =Sheet3!C35 -> Valor total da contrapartida* | D15: =Sheet3!D35 -> 2450
G16: ** Valor da carteira e prémio têm por base a cotação de fecho da Sonaecom a 28 de Outubro de 2013, de 2,236 euros
C17: =Sheet3!C37 -> Valor da carteira com acções da Sonaecom** | D17: =Sheet3!D37 -> 2236
C19: =Sheet3!C39 -> Prémio** | D19: =Sheet3!D39 -> 0.095706609

Sheet Sheet3
A4: 113.82533 | B4: 100 | D4: =($A$5*$B$4/F4)/100 -> 87.853911 | E4: =(D4/100) -> 0.87853911 | F4: 1.1382533 | G4: =F4*$G$17 -> 0.48228346 | J4: 87.853911 | K4: 0.48228346
A5: 100 | B5: X | D5: =($A$5*$B$4/F5)/100 -> 88.741324 | E5: =(D5/100) -> 0.88741324 | F5: 1.1268707 | G5: =F5*$G$17 -> 0.47746062 | J5: 88.741324 | K5: 0.47746062
D6: =($A$5*$B$4/F6)/100 -> 89.646848 | E6: =(D6/100) -> 0.89646848 | F6: 1.1154882 | G6: =F6*$G$17 -> 0.47263779 | J6: 89.646848 | K6: 0.47263779
D7: =($A$5*$B$4/F7)/100 -> 90.571042 | E7: =(D7/100) -> 0.90571042 | F7: 1.1041057 | G7: =F7*$G$17 -> 0.46781495 | J7: 90.571042 | K7: 0.46781495
D8: =($A$5*$B$4/F8)/100 -> 91.51449 | E8: =(D8/100) -> 0.9151449 | F8: 1.0927231 | G8: =F8*$G$17 -> 0.46299212 | J8: 91.51449 | K8: 0.46299212
D9: =($A$5*$B$4/F9)/100 -> 92.477801 | E9: =(D9/100) -> 0.92477801 | F9: 1.0813406 | G9: =F9*$G$17 -> 0.45816928 | J9: 92.477801 | K9: 0.45816928
D10: =($A$5*$B$4/F10)/100 -> 93.461607 | E10: =(D10/100) -> 0.93461607 | F10: 1.0699581 | G10: =F10*$G$17 -> 0.45334645 | J10: 93.461607 | K10: 0.45334645
D11: =($A$5*$B$4/F11)/100 -> 94.466571 | E11: =(D11/100) -> 0.94466571 | F11: 1.0585755 | G11: =F11*$G$17 -> 0.44852361 | J11: 94.466571 | K11: 0.44852361
D12: =($A$5*$B$4/F12)/100 -> 95.493381 | E12: =(D12/100) -> 0.95493381 | F12: 1.047193 | G12: =F12*$G$17 -> 0.44370078 | J12: 95.493381 | K12: 0.44370078
D13: =($A$5*$B$4/F13)/100 -> 96.542759 | E13: =(D13/100) -> 0.96542759 | F13: 1.0358105 | G13: =F13*$G$17 -> 0.43887794 | J13: 96.542759 | K13: 0.43887794
D14: =($A$5*$B$4/F14)/100 -> 97.615456 | E14: =(D14/100) -> 0.97615456 | F14: 1.0244279 | G14: =F14*$G$17 -> 0.43405511 | J14: 97.615456 | K14: 0.43405511
D15: =($A$5*$B$4/F15)/100 -> 98.712259 | E15: =(D15/100) -> 0.98712259 | F15: 1.0130454 | G15: =F15*$G$17 -> 0.42923228 | J15: 98.712259 | K15: 0.42923228
D16: =($A$5*$B$4/F16)/100 -> 99.833989 | E16: =(D16/100) -> 0.99833989 | F16: 1.0016629 | G16: =F16*$G$17 -> 0.42440944 | J16: 99.833989 | K16: 0.42440944
D17: =($A$5*$B$4/F17)/100 -> 100 | E17: =(D17/100) -> 1 | F17: 1 | G17: 0.42370488 | J17: 100 | K17: 0.42370488
B21: 0.48228346 | C21: Insira o número de acções detidas | D21: ='Calculadora Sonaecom'!D6 -> 1000
B23: 0.42370488 | C23: Insira a percentagem de aceitação da oferta | D23: ='Calculadora Sonaecom'!D8 -> 1
D24: =(100%*100%/D23)*100% -> 1
B25: 5.08 | D25: =D24*B23 -> 0.42370488 | E25: =IF(D24*B23>B21,B21,D25) -> 0.42370488
C27: Número de acções a receber da Zon Optimus | D27: =E25*D21 -> 423.70488
C29: Componente em dinheiro | D29: =-(D21*(D25-B21))*B25 -> 297.57919
C30: Componente em dinheiro | D30: =IF(D23<87.85391%,0,D29) -> 297.57919
C31: Indique a cotação da Sonaecom | D31: 2.236
C33: Indique a cotação da Zon Optimus | D33: 5.08
C35: Valor total da contrapartida* | D35: =(D27*D33)+D30 -> 2450
C37: Valor da carteira com acções da Sonaecom** | D37: =D21*D31 -> 2236
C39: Prémio** | D39: =D35/D37-1 -> 0.095706609
